BEGIN:VCALENDAR
VERSION:2.0
PRODID:-//www.lovenow.org//NONSGML kigkonsult.se iCalcreator 2.39.1//
CALSCALE:GREGORIAN
METHOD:PUBLISH
UID:5714a9ca-4de3-47cc-8a1b-5440753b3874
X-WR-CALNAME:www.lovenow.org
X-WR-CALDESC:www.lovenow.org
X-WR-TIMEZONE:America/Los_Angeles
X-LIC-LOCATION:America/Los_Angeles
BEGIN:VEVENT
UID:426419a2-a8c5-4ee0-b407-4f282a54ed80
DTSTAMP:20260425T145559Z
CLASS:PUBLIC
DTSTART;TZID=America/Los_Angeles:20260426T103000
DTEND;TZID=America/Los_Angeles:20260426T114500
SUMMARY:Family Gathering
TRANSP:OPAQUE
BEGIN:VALARM
ACTION:DISPLAY
DESCRIPTION:Family Gathering
TRIGGER:-PT15M
END:VALARM
END:VEVENT
END:VCALENDAR
