BEGIN:VCALENDAR
VERSION:2.0
PRODID:-//www.lovenow.org//NONSGML kigkonsult.se iCalcreator 2.39.1//
CALSCALE:GREGORIAN
METHOD:PUBLISH
UID:0a4598ce-c5d0-45b8-9382-00f57f93cab5
X-WR-CALNAME:www.lovenow.org
X-WR-CALDESC:www.lovenow.org
X-WR-TIMEZONE:America/Los_Angeles
X-LIC-LOCATION:America/Los_Angeles
BEGIN:VEVENT
UID:2529ddd0-8b87-46f4-8b70-de76f5cf7e00
DTSTAMP:20260420T103041Z
CLASS:PUBLIC
DTSTART;TZID=America/Los_Angeles:20260422T180000
DTEND;TZID=America/Los_Angeles:20260422T200000
SUMMARY:Clarkdale Community Group
TRANSP:OPAQUE
BEGIN:VALARM
ACTION:DISPLAY
DESCRIPTION:Clarkdale Community Group
TRIGGER:-PT15M
END:VALARM
END:VEVENT
END:VCALENDAR
